BEGIN:VCALENDAR
VERSION:2.0
PRODID:-//TirdziniLV - ECPv6.15.20//NONSGML v1.0//EN
CALSCALE:GREGORIAN
METHOD:PUBLISH
X-WR-CALNAME:TirdziniLV
X-ORIGINAL-URL:https://tirdzini.lv
X-WR-CALDESC:Pasākumi  TirdziniLV
REFRESH-INTERVAL;VALUE=DURATION:PT1H
X-Robots-Tag:noindex
X-PUBLISHED-TTL:PT1H
BEGIN:VTIMEZONE
TZID:Europe/Riga
BEGIN:DAYLIGHT
TZOFFSETFROM:+0200
TZOFFSETTO:+0300
TZNAME:EEST
DTSTART:20250330T010000
END:DAYLIGHT
BEGIN:STANDARD
TZOFFSETFROM:+0300
TZOFFSETTO:+0200
TZNAME:EET
DTSTART:20251026T010000
END:STANDARD
BEGIN:DAYLIGHT
TZOFFSETFROM:+0200
TZOFFSETTO:+0300
TZNAME:EEST
DTSTART:20260329T010000
END:DAYLIGHT
BEGIN:STANDARD
TZOFFSETFROM:+0300
TZOFFSETTO:+0200
TZNAME:EET
DTSTART:20261025T010000
END:STANDARD
BEGIN:DAYLIGHT
TZOFFSETFROM:+0200
TZOFFSETTO:+0300
TZNAME:EEST
DTSTART:20270328T010000
END:DAYLIGHT
BEGIN:STANDARD
TZOFFSETFROM:+0300
TZOFFSETTO:+0200
TZNAME:EET
DTSTART:20271031T010000
END:STANDARD
END:VTIMEZONE
BEGIN:VEVENT
DTSTART;TZID=Europe/Riga:20260425T110000
DTEND;TZID=Europe/Riga:20260425T160000
DTSTAMP:20260423T140114
CREATED:20260225T180541Z
LAST-MODIFIED:20260225T180541Z
UID:5922-1777114800-1777132800@tirdzini.lv
SUMMARY:Lido zivis Kuldīgā 2026
DESCRIPTION:Aicinām amatniekus\, mājražotājus\, māksliniekus\, pārtikas ražotājus un ēdinātājus pieteikties dalībai Pavasara tirgū “Lido zivis Kuldīgā 2026”\, kas norisināsies 2026. gada 25. aprīlī Kuldīgā. \nPavasara tirgus ir daļa no [pa]vasara svētkiem “Lido zivis Kuldīgā 2026”. \n🕚 Tirgus darba laiks apmeklētājiem: 11.00–16.00 \nTirgus koncepcija balstīta Kuldīgas kultūrvēsturiskajās tradīcijās\, amatniecībā un vietējā kulinārajā mantojumā\, īpaši akcentējot pavasara tematiku un Ventas rumbas zivju lēcienu kā unikālu pilsētas simbolu. Priekšroka tiks dota dalībniekiem ar pašu radītu\, kvalitatīvu un oriģinālu produkciju\, kas atbilst pasākuma tematikai. \n  \n⚠️ Svarīgi! Šogad ir vairākas būtiskas izmaiņas: \n· Tirgus tirdzniecības vietas tiks izvietotas Pilsētas dārzā un tam piegulošajās ielās (Kalna\, Dīķa\, Pils\, Rumbas ielas). Liepājas ielā tirgus netiks izvietots. Vietu izvietojumu nosaka organizators atbilstoši pasākuma kopējai koncepcijai un apmeklētāju plūsmai. \n· Dalībnieki netiks apstiprināti pieteikšanās secībā — visus pieteikumus izvērtēs atlases komisija\, vērtējot produkcijas kvalitāti\, oriģinalitāti un atbilstību pasākuma tematikai. Dalībnieku skaits ir ierobežots\, un organizators patur tiesības pieteikumu apstiprināt vai noraidīt. \n  \nPieteikšanās:\nLai pieteiktos dalībai\, līdz 2026. gada 25. martam plkst. 23.59 lūdzam aizpildīt pieteikuma anketu:\n👉 https://ej.uz/2tah \nApstiprinātajiem dalībniekiem tiks nosūtīts priekšapmaksas rēķins par pašvaldības nodevu. Dalība pasākumā tiek apstiprināta pēc maksājuma veikšanas. \nPapildu informācija:\nKuldīgas novada tūrisma attīstības centrs\nTālr.: 29334403\nE-pasts: tourinfo@kuldiga.lv \n  \nBūsim priecīgi kopā veidot krāšņu pavasara svētku tirgu Kuldīgā!
URL:https://tirdzini.lv/pasakums/lido-zivis-kuldiga-2026/
LOCATION:Kaļķu ielas kvartāls\, Kuldīga\, Kaļķu iela 14\, Kuldīga\, Kuldīgas novads\, LV-3301\, Latvia
CATEGORIES:Amatnieku Tirdziņi,Festivāli,Gadatirgi,Kultūra & Izklaide,Pilsētu svētku tirdziņš
ATTACH;FMTTYPE=image/png:https://tirdzini.lv/wp-content/uploads/2026/02/LidoZivis2026.png
END:VEVENT
BEGIN:VEVENT
DTSTART;TZID=Europe/Riga:20260501T100000
DTEND;TZID=Europe/Riga:20260501T160000
DTSTAMP:20260423T140114
CREATED:20260410T064948Z
LAST-MODIFIED:20260410T064948Z
UID:5951-1777629600-1777651200@tirdzini.lv
SUMMARY:Pavasara gadatirgus Alojā
DESCRIPTION:Pavasara gadatirgus Alojā\, 2026.gada 1.maijā no plkst.9.00. Vietu ierādīšana no plkst.7.00.  \nPieteikties lūdzu līdz 24.aprīlim aizpildot pieteikuma anketu TE!
URL:https://tirdzini.lv/pasakums/pavasara-gadatirgus-aloja/
LOCATION:Aloja\, Aloja\, Latvia
CATEGORIES:Amatnieku Tirdziņi,Gadatirgi,Tirdziņš
ATTACH;FMTTYPE=image/png:https://tirdzini.lv/wp-content/uploads/2026/04/LimbazuGadatirgus1maijs.png
ORGANIZER;CN="Limba%C5%BEi":MAILTO:eriks.steins@limbazunovads.lv
END:VEVENT
BEGIN:VEVENT
DTSTART;VALUE=DATE:20260612
DTEND;VALUE=DATE:20260614
DTSTAMP:20260423T140114
CREATED:20260422T064301Z
LAST-MODIFIED:20260422T064301Z
UID:5976-1781222400-1781395199@tirdzini.lv
SUMMARY:Saldus novada svētki 2026
DESCRIPTION:VAI ESI GATAVS 2026. gada vasaras gaidītākajiem SVĒTKIEM SALDUS NOVADĀ? \nDUBULTSVĒTKI! SALDUS svin 170 un JANIS ROZENTĀLS 160! \nVairāku dienu garumā pilsēta dzīvos mūzikā\, mākslā\, garšās un svētku notikumos\, kas uzlādē līdz pēdējai šūnai.  \nŠis būs notikums\, kurā  Jūs gribēsiet būt un palikt!!  \nAtzīmē datumu 12. un 13. JŪNIJS  kalendārā un seko līdzi jaunumiem jau pavisam drīz! \nGada karstākie svētki tuvojas!  \nPilnīgāka informācija par pasākumiem būs pieejama TE. \nAicinām pieteikties tirgotājus "SALDUS NOVADA SVĒTKI 2026" tirdzniecībai 12. un 13. jūnijā! \nŠogad vienlaicīgi aicinām pieteikt dalību gan Saldus novada svētku tirgū\, gan ēdināšanas pakalpojumu sniedzējiem – tirdzniecībai svētku pasākumos pilsētas centrā un Kalnsētas parkā.\nLatvijas mājražotājus\, amatniekus un citus ražotājus aicinām piedalīties svētku tirgū\, kas notiks 13. jūnijā no plkst. 10.00 līdz 15.00.\nĒdinātājus gaidīsim ar savu piedāvājumu pilsētas centrā\, papildinot svētku aktivitātes 12. jūnija vakarā un 13. jūnijā pa dienu Oskara Kalpaka laukumā un galvenajās ielās.\nSavukārt ēdinātāji un pārtikas tirgotāji aicināti pieteikties arī tirdzniecībai Kalnsētas parka estrādē koncertu laikā 12. un 13. jūnija vakaros.\n  \nPieteikšanās svētku tirgum un tirdzniecībai pilsētas centrā:\nhttps://ej.uz/saldus_novads_2026\n  \nPieteikšanās tirdzniecībai Kalnsētas parkā:\nhttps://ej.uz/saldus_novads_kalnsetas_2026\n  \nAr nosacījumiem un papildu informāciju iespējams iepazīties: https://ej.uz/tirdzniecības_nolikums_2026\n  \nPieteikumus gaidīsim līdz 22. maijam (vietu skaits ierobežots – pieteikšanās var noslēgties ātrāk).\nJautājumiem: andra.kaulina-ostrovska@saldus.lv\, 26482633
URL:https://tirdzini.lv/pasakums/saldus-novada-svetki-2026/
LOCATION:Saldus tirgus\, Kuldīgas iela 1\, Saldus\, Kurzeme\, LV-3801\, Latvia
CATEGORIES:Amatnieku Tirdziņi,Festivāli,Gadatirgi,MājRažotāju Tirdziņš,Pilsētu svētku tirdziņš
ATTACH;FMTTYPE=image/jpeg:https://tirdzini.lv/wp-content/uploads/2026/04/SaldusNovadaSvetki2026.jpg
ORGANIZER;CN="Saldus Tirgus":MAILTO:saldustirgus@saldusks.lv
END:VEVENT
END:VCALENDAR